BEGIN:VCALENDAR
VERSION:2.0
PRODID:-//CASA for Kids of East Texas - ECPv6.15.20//NONSGML v1.0//EN
CALSCALE:GREGORIAN
METHOD:PUBLISH
X-ORIGINAL-URL:https://casaforkidsofet.org
X-WR-CALDESC:Events for CASA for Kids of East Texas
REFRESH-INTERVAL;VALUE=DURATION:PT1H
X-Robots-Tag:noindex
X-PUBLISHED-TTL:PT1H
BEGIN:VTIMEZONE
TZID:America/Chicago
BEGIN:DAYLIGHT
TZOFFSETFROM:-0600
TZOFFSETTO:-0500
TZNAME:CDT
DTSTART:20230312T080000
END:DAYLIGHT
BEGIN:STANDARD
TZOFFSETFROM:-0500
TZOFFSETTO:-0600
TZNAME:CST
DTSTART:20231105T070000
END:STANDARD
BEGIN:DAYLIGHT
TZOFFSETFROM:-0600
TZOFFSETTO:-0500
TZNAME:CDT
DTSTART:20240310T080000
END:DAYLIGHT
BEGIN:STANDARD
TZOFFSETFROM:-0500
TZOFFSETTO:-0600
TZNAME:CST
DTSTART:20241103T070000
END:STANDARD
BEGIN:DAYLIGHT
TZOFFSETFROM:-0600
TZOFFSETTO:-0500
TZNAME:CDT
DTSTART:20250309T080000
END:DAYLIGHT
BEGIN:STANDARD
TZOFFSETFROM:-0500
TZOFFSETTO:-0600
TZNAME:CST
DTSTART:20251102T070000
END:STANDARD
END:VTIMEZONE
BEGIN:VEVENT
DTSTART;TZID=America/Chicago:20240622T080000
DTEND;TZID=America/Chicago:20240622T110000
DTSTAMP:20260421T091820
CREATED:20240119T022623Z
LAST-MODIFIED:20240619T203400Z
UID:10000001-1719043200-1719054000@casaforkidsofet.org
SUMMARY:Passport To Fun 2024
DESCRIPTION:Want to enjoy a fun-filled shopping day while also helping neglected children in our community? CASA for Kids of East Texas has the perfect event coming up on June 22nd that has just what you are looking for! \nJoin us for a day packed with excitement\, shopping\, and community spirit at our Passport to Fun event! Attendees will begin the day at the CASA For Kids conference building with provided breakfast. After breakfast\, explore our on-site shopping area where a variety of vendors will showcase their unique products. Each attendee will receive a goodie bag stuffed with items from these vendors. One of the highlights of the morning is our interactive fashion show \, where local vendors will present the latest trends and styles. It’s a perfect opportunity to get inspired and find something new to add to your wardrobe. \nBut the fun doesn’t stop there! After enjoying the activities on-site\, it’s time to hit the town for more shopping adventures with your friends. With your provided passport\, visit participating stores around town to get your passport stamped. Each stamp gives you a chance to be entered into a drawing for the GRAND PRIZE. Remember\, the more stamps you collect\, the higher your chances of winning! \n  \n \n  \nSponsorship Opportunity: $2\,000 \n\nYour name/logo on all materials (social media\, website\, print\, at event)\n\nFor more information\, contact: \n\nMary Jo Burgess at 903.597.7725 x109 or email maryjo@casaforkidsofet.org.\nKatherine Elliott\, at 903.597.7725 x110 or email katherine@casaforkidsofet.org.\n\n  \nThank you to our 2024 Passport to Fun Vendors!\n    \n 
URL:https://casaforkidsofet.org/event/passport-to-fun-2024/
LOCATION:The Center at CASA for Kids of East Texas\, 3616 West Way St.\, Tyler\, TX\, 75703\, United States
CATEGORIES:Fundraising
ATTACH;FMTTYPE=image/png:https://casaforkidsofet.org/wp-content/uploads/sites/17/2024/01/Passport-to-Fun-Header.png
END:VEVENT
END:VCALENDAR